BEGIN:VCALENDAR
VERSION:2.0
PRODID:-//daz/events//NONSGML v1.0//DE
CALSCALE:GREGORIAN
BEGIN:VEVENT
DTSTART:20210407T000000
UID:69eccbd4c233f
DTSTAMP:20260425T141236
LOCATION:D A Z — Deutsches Architektur Zentrum
DESCRIPTION:Vorstellung junger BDA-Architekt*innen
URL;VALUE=URI:https://www.daz.de/de/neu-im-club-1-21-mrschmidt-architekten/
SUMMARY:neu im club 1/21: mrschmidt Architekten
END:VEVENT
END:VCALENDAR