BEGIN:VCALENDAR
VERSION:2.0
PRODID:-//daz/events//NONSGML v1.0//DE
CALSCALE:GREGORIAN
BEGIN:VEVENT
DTSTART:20210204T180000
UID:69e4d06993c64
DTSTAMP:20260419T125401
LOCATION:D A Z — Deutsches Architektur Zentrum
DESCRIPTION:Digital talk by and with fieldstations
URL;VALUE=URI:https://www.daz.de/en/rahmen-an-anthropocene-explorer-2/
SUMMARY:Rahmen. An Anthropocene Explorer
END:VEVENT
END:VCALENDAR