BEGIN:VCALENDAR
VERSION:2.0
PRODID:-//daz/events//NONSGML v1.0//DE
CALSCALE:GREGORIAN
BEGIN:VEVENT
DTSTART:20200224T190000
UID:69ea106fd1875
DTSTAMP:20260423T122831
LOCATION:D A Z — Deutsches Architektur Zentrum
DESCRIPTION:Gespräch (in Englisch) zur Ausstellung „Critical Care”
URL;VALUE=URI:https://www.daz.de/de/architektur-des-sorgetragens/
SUMMARY:Architektur des Sorgetragens
END:VEVENT
END:VCALENDAR