BEGIN:VCALENDAR
VERSION:2.0
PRODID:-//daz/events//NONSGML v1.0//DE
CALSCALE:GREGORIAN
BEGIN:VEVENT
DTSTART:20191116T190000
UID:69e5921e8316d
DTSTAMP:20260420T024030
LOCATION:D A Z — Deutsches Architektur Zentrum
DESCRIPTION:Ausstellung mit Briefen an den Regierenden Bürgermeister
URL;VALUE=URI:https://www.daz.de/de/letters-to-the-mayor-berlin/
SUMMARY:Letters to the Mayor: Berlin
END:VEVENT
END:VCALENDAR