BEGIN:VCALENDAR
VERSION:2.0
PRODID:-//daz/events//NONSGML v1.0//DE
CALSCALE:GREGORIAN
BEGIN:VEVENT
DTSTART:20190703T190000
UID:69eccb8163557
DTSTAMP:20260425T141113
LOCATION:D A Z — Deutsches Architektur Zentrum
DESCRIPTION:Gespräche und Werkschauprojektionen mit jungen BDA-Architekten
URL;VALUE=URI:https://www.daz.de/de/neu-im-club-3-19-f-m-b-architekten-bda/
SUMMARY:neu im club 3/19: F M B Architekten BDA
END:VEVENT
END:VCALENDAR