BEGIN:VCALENDAR
VERSION:2.0
PRODID:-//daz/events//NONSGML v1.0//DE
CALSCALE:GREGORIAN
BEGIN:VEVENT
DTSTART:20190612T000000
UID:69ed32b2000fa
DTSTAMP:20260425T213130
LOCATION:D A Z — Deutsches Architektur Zentrum
DESCRIPTION:Presentation by  in situ\, Cityförster and Praeger Richter Architekten 
URL;VALUE=URI:https://www.daz.de/en/houston-we-have-a-problem-project-collection/
SUMMARY:Respect the built
END:VEVENT
END:VCALENDAR