BEGIN:VCALENDAR
VERSION:2.0
PRODID:-//daz/events//NONSGML v1.0//DE
CALSCALE:GREGORIAN
BEGIN:VEVENT
DTSTART:20190329T110000
UID:69ecfb33df534
DTSTAMP:20260425T173443
LOCATION:D A Z — Deutsches Architektur Zentrum
DESCRIPTION:Welche Chancen bietet das Masterstudium?
URL;VALUE=URI:https://www.daz.de/de/bdahochschultag-2019/
SUMMARY:BDA-Hochschultag der Architektur
END:VEVENT
END:VCALENDAR