BEGIN:VCALENDAR
VERSION:2.0
PRODID:-//daz/events//NONSGML v1.0//DE
CALSCALE:GREGORIAN
BEGIN:VEVENT
DTSTART:20190306T190000
UID:69eccb4957716
DTSTAMP:20260425T141017
LOCATION:D A Z — Deutsches Architektur Zentrum
DESCRIPTION:Gespräche und Werkschauprojektionen mit jungen BDA-Architekten
URL;VALUE=URI:https://www.daz.de/de/neu-im-club-1-19-justies-runzi-architekten/
SUMMARY:NEU IM CLUB 1/19: JUSTIES/RÜNZI ARCHITEKTEN
END:VEVENT
END:VCALENDAR