BEGIN:VCALENDAR
VERSION:2.0
PRODID:-//daz/events//NONSGML v1.0//DE
CALSCALE:GREGORIAN
BEGIN:VEVENT
DTSTART:19700101T000000
UID:69eceef5bfb98
DTSTAMP:20260425T164229
LOCATION:D A Z — Deutsches Architektur Zentrum
DESCRIPTION:Berlin 2013 / 1983
URL;VALUE=URI:https://www.daz.de/en/y-table-talk-berlin-2013-1983/
SUMMARY:Y-Table Talk: Berlin 2013 / 1983
END:VEVENT
END:VCALENDAR