BEGIN:VCALENDAR
VERSION:2.0
PRODID:-//daz/events//NONSGML v1.0//DE
CALSCALE:GREGORIAN
BEGIN:VEVENT
DTSTART:20190117T000000
UID:69e81ba3b63b6
DTSTAMP:20260422T005147
LOCATION:D A Z — Deutsches Architektur Zentrum
DESCRIPTION:Filmscreenings at DAZ
URL;VALUE=URI:https://www.daz.de/en/anthropocene/
SUMMARY:Anthropocene\, Capitalocene\, Chthulucene
END:VEVENT
END:VCALENDAR