BEGIN:VCALENDAR
VERSION:2.0
PRODID:-//daz/events//NONSGML v1.0//DE
CALSCALE:GREGORIAN
BEGIN:VEVENT
DTSTART:20181107T190000
UID:69eccb50021ab
DTSTAMP:20260425T141024
LOCATION:D A Z — Deutsches Architektur Zentrum
DESCRIPTION:Gespräche und Werkschauprojektionen mit jungen BDA-Architekten
URL;VALUE=URI:https://www.daz.de/de/neu-im-club-5-18-hehnpohl-architektur-bda/
SUMMARY:neu im club 5/18: HEHNPOHL ARCHITEKTUR BDA
END:VEVENT
END:VCALENDAR