BEGIN:VCALENDAR
VERSION:2.0
PRODID:-//daz/events//NONSGML v1.0//DE
CALSCALE:GREGORIAN
BEGIN:VEVENT
DTSTART:20181015T190000
UID:69e75026d4f83
DTSTAMP:20260421T102334
LOCATION:D A Z — Deutsches Architektur Zentrum
DESCRIPTION:Y-Table Talk mit Philipp Oswalt
URL;VALUE=URI:https://www.daz.de/de/anthropozaenkitsch-architektur-als-ersatzhandlung/
SUMMARY:Anthropozänkitsch: Architektur als Ersatzhandlung
END:VEVENT
END:VCALENDAR