BEGIN:VCALENDAR
VERSION:2.0
PRODID:-//daz/events//NONSGML v1.0//DE
CALSCALE:GREGORIAN
BEGIN:VEVENT
DTSTART:20180704T000000
UID:69e74f44448ea
DTSTAMP:20260421T101948
LOCATION:D A Z — Deutsches Architektur Zentrum
DESCRIPTION:Zehn Thesen zum Wohnen
URL;VALUE=URI:https://www.daz.de/de/stuttgart-neue-standards/
SUMMARY:Stuttgart: Neue Standards
END:VEVENT
END:VCALENDAR