BEGIN:VCALENDAR
VERSION:2.0
PRODID:-//daz/events//NONSGML v1.0//DE
CALSCALE:GREGORIAN
BEGIN:VEVENT
DTSTART:20180502T190000
UID:69e73de55e960
DTSTAMP:20260421T090541
LOCATION:D A Z — Deutsches Architektur Zentrum
DESCRIPTION:Presentation at the facade and talk (in German) with young BDA architects
URL;VALUE=URI:https://www.daz.de/en/neu-im-club-2-18-haascookzemmrich-studio-2050-2/
SUMMARY:neu im club 2/18: Haascookzemmrich STUDIO 2050
END:VEVENT
END:VCALENDAR