BEGIN:VCALENDAR
VERSION:2.0
PRODID:-//daz/events//NONSGML v1.0//DE
CALSCALE:GREGORIAN
BEGIN:VEVENT
DTSTART:20171216T160000
UID:69ea5e59d05a7
DTSTAMP:20260423T180057
LOCATION:D A Z — Deutsches Architektur Zentrum
DESCRIPTION:Wem gehört der Grund\, auf dem wir bauen?
URL;VALUE=URI:https://www.daz.de/de/the-property-drama/
SUMMARY:The Property Drama
END:VEVENT
END:VCALENDAR