BEGIN:VCALENDAR
VERSION:2.0
PRODID:-//daz/events//NONSGML v1.0//DE
CALSCALE:GREGORIAN
BEGIN:VEVENT
DTSTART:20171027T000000
UID:69e860f03f726
DTSTAMP:20260422T054728
LOCATION:D A Z — Deutsches Architektur Zentrum
DESCRIPTION:Werkschauprojektion und Gespräch
URL;VALUE=URI:https://www.daz.de/de/neu-im-club-517-sigurd-larsen-2/
SUMMARY:neu im club 5/17: Sigurd Larsen
END:VEVENT
END:VCALENDAR