BEGIN:VCALENDAR
VERSION:2.0
PRODID:-//daz/events//NONSGML v1.0//DE
CALSCALE:GREGORIAN
BEGIN:VEVENT
DTSTART:20170630T200000
UID:69e73c68834a2
DTSTAMP:20260421T085920
LOCATION:D A Z — Deutsches Architektur Zentrum
DESCRIPTION:Vostellung der neuen BDA-Architekten
URL;VALUE=URI:https://www.daz.de/de/neu-im-club-pecha-kucha-abend/
SUMMARY:neu im club: Pecha-Kucha-Abend
END:VEVENT
END:VCALENDAR