BEGIN:VCALENDAR
VERSION:2.0
PRODID:-//daz/events//NONSGML v1.0//DE
CALSCALE:GREGORIAN
BEGIN:VEVENT
DTSTART:20241206T190000
UID:69ea49b89723e
DTSTAMP:20260423T163256
LOCATION:D A Z — Deutsches Architektur Zentrum
DESCRIPTION:AUSSTELLUNG
URL;VALUE=URI:https://www.daz.de/de/dessauer-strasse-ausstellung/
SUMMARY:Dessauer Straße
END:VEVENT
END:VCALENDAR